
BEGIN:VCALENDAR
VERSION:2.0
PRODID:-//VisitCrestviewFL.com - ECPv6.15.20//NONSGML v1.0//EN
CALSCALE:GREGORIAN
METHOD:PUBLISH
X-WR-CALNAME:VisitCrestviewFL.com
X-ORIGINAL-URL:https://visitcrestviewfl.com
X-WR-CALDESC:Events for VisitCrestviewFL.com
REFRESH-INTERVAL;VALUE=DURATION:PT1H
X-Robots-Tag:noindex
X-PUBLISHED-TTL:PT1H
BEGIN:VTIMEZONE
TZID:UTC
BEGIN:STANDARD
TZOFFSETFROM:+0000
TZOFFSETTO:+0000
TZNAME:UTC
DTSTART:20240101T000000
END:STANDARD
END:VTIMEZONE
BEGIN:VEVENT
DTSTART;TZID=UTC:20250404T170000
DTEND;TZID=UTC:20250502T203000
DTSTAMP:20260424T080445
CREATED:20250331T190653Z
LAST-MODIFIED:20250903T224500Z
UID:10000652-1743786000-1746217800@visitcrestviewfl.com
SUMMARY:Downtown Crestview Food Truck Friday
DESCRIPTION:Mark your calendars for Food Truck Fridays on Main Street!\n\nEvery first Friday of the month\, Crestview brings the tastiest local food trucks downtown. Gather your friends and family for an evening filled with mouthwatering eats\, vibrant community vibes\, and loads of fun!\n\nWhether you’re craving savory bites or sweet treats\, there will be something for everyone! Eat\, mingle\, and make memories while supporting small businesses in the area.
URL:https://visitcrestviewfl.com/event/downtown-crestview-food-truck-friday/2025-04-04/
LOCATION:Downtown Crestview\, 311 N Main St\, Crestview\, FL\, 32536\, United States
ATTACH;FMTTYPE=image/jpeg:https://visitcrestviewfl.com/wp-content/uploads/2025/03/484921984_1070304548458190_2172917522114497694_n.jpg
END:VEVENT
BEGIN:VEVENT
DTSTART;TZID=UTC:20250417T073000
DTEND;TZID=UTC:20250417T090000
DTSTAMP:20260424T080445
CREATED:20250401T163746Z
LAST-MODIFIED:20250401T163746Z
UID:10000672-1744875000-1744880400@visitcrestviewfl.com
SUMMARY:Mayor's Prayer Breakfast
DESCRIPTION:The City of Crestview is excited to announce the annual Mayor’s Prayer Breakfast\, which will take place on Thursday\, April 17\, 2025\, at the Crestview Community Center. Doors will open at 7:00 a.m.\, and the program will commence at 7:30 a.m. We are honored to have Brigadier General Pete Zalewski\, the Chaplain of the Air National Guard\, as our guest speaker this year. \nIn December 2023\, Father Zalewski was promoted to the rank of Brigadier General at the Florida National Guard Headquarters in St. Augustine. As a one-star general\, he serves as the senior chaplain in the Air Force National Guard and is currently the only priest holding the rank of general in the Air National Guard. Alongside his pastoral duties in the diocese\, he also serves as the Director of the Office of the Joint Chaplain for the National Guard Bureau in Washington\, which supports members of both the Air Force and Army National Guard. \nJoin Crestview for a morning filled with inspiration and community spirit as Mayor JB Whitten opens the event with a warm welcome. We would also like to express our gratitude to our sponsors\, All-In Credit Union and Rocky Bayou Christian School. This event would not be possible without their support. \nThe breakfast is complimentary for all attendees\, making it a wonderful opportunity to connect with fellow residents and enjoy an encouraging message. To ensure we can accommodate all guests\, please register by Monday\, April 14\, 2025. You can confirm your attendance by visiting loom.ly/nulhZjo or by calling the mayor’s assistant\, Dominique Vaughn\, at (850) 682-3812.
URL:https://visitcrestviewfl.com/event/mayors-prayer-breakfast/
LOCATION:Crestview Community Center\, 1446 Commerce Dr\, Crestview\, FL\, 32539\, United States
ATTACH;FMTTYPE=image/jpeg:https://visitcrestviewfl.com/wp-content/uploads/2025/04/620654c9f194789070fe772b1684a505a5858e3e5a5a9e07425bbe66dabe43b7-rimg-w1200-h1553-dcffffff-gmir.jpg
END:VEVENT
END:VCALENDAR