
BEGIN:VCALENDAR
VERSION:2.0
PRODID:-//VisitCrestviewFL.com - ECPv6.15.20//NONSGML v1.0//EN
CALSCALE:GREGORIAN
METHOD:PUBLISH
X-WR-CALNAME:VisitCrestviewFL.com
X-ORIGINAL-URL:https://visitcrestviewfl.com
X-WR-CALDESC:Events for VisitCrestviewFL.com
REFRESH-INTERVAL;VALUE=DURATION:PT1H
X-Robots-Tag:noindex
X-PUBLISHED-TTL:PT1H
BEGIN:VTIMEZONE
TZID:UTC
BEGIN:STANDARD
TZOFFSETFROM:+0000
TZOFFSETTO:+0000
TZNAME:UTC
DTSTART:20240101T000000
END:STANDARD
END:VTIMEZONE
BEGIN:VEVENT
DTSTART;TZID=UTC:20250404T170000
DTEND;TZID=UTC:20250502T203000
DTSTAMP:20260424T105716
CREATED:20250331T190653Z
LAST-MODIFIED:20250903T224500Z
UID:10000652-1743786000-1746217800@visitcrestviewfl.com
SUMMARY:Downtown Crestview Food Truck Friday
DESCRIPTION:Mark your calendars for Food Truck Fridays on Main Street!\n\nEvery first Friday of the month\, Crestview brings the tastiest local food trucks downtown. Gather your friends and family for an evening filled with mouthwatering eats\, vibrant community vibes\, and loads of fun!\n\nWhether you’re craving savory bites or sweet treats\, there will be something for everyone! Eat\, mingle\, and make memories while supporting small businesses in the area.
URL:https://visitcrestviewfl.com/event/downtown-crestview-food-truck-friday/2025-04-04/
LOCATION:Downtown Crestview\, 311 N Main St\, Crestview\, FL\, 32536\, United States
ATTACH;FMTTYPE=image/jpeg:https://visitcrestviewfl.com/wp-content/uploads/2025/03/484921984_1070304548458190_2172917522114497694_n.jpg
END:VEVENT
BEGIN:VEVENT
DTSTART;TZID=UTC:20250419T091500
DTEND;TZID=UTC:20250419T111500
DTSTAMP:20260424T105716
CREATED:20250331T193230Z
LAST-MODIFIED:20250331T193230Z
UID:10000670-1745054100-1745061300@visitcrestviewfl.com
SUMMARY:City of Crestview Easter Egg Hunt 2025
DESCRIPTION:Crestview! Save the date for an awesome Easter Egg Hunt on Saturday\, April 19\, 2025\, at 9:15 am at Twin Hills Park! There will be prizes\, candy\, photos with the Easter Bunny\, and a whopping 20\,000 eggs for all to enjoy.\n\nLittle ones (ages 0-3) start the fun at 9:15 am at the small soccer field\, followed by the big kids (ages 4-6 and 7-12) at 10:15 am at the large soccer field.\n\nIt’s going to be a fun family day! Follow the official City of Crestview page @CityofCrestview to stay up-to-date.
URL:https://visitcrestviewfl.com/event/city-of-crestview-easter-egg-hunt-2025/
LOCATION:Twin Hills Park\, 100 N Hathaway St\, Crestview\, FL\, 32539\, United States
ATTACH;FMTTYPE=image/jpeg:https://visitcrestviewfl.com/wp-content/uploads/2025/03/486749462_1076969394458372_6255487030108438781_n.jpg
END:VEVENT
BEGIN:VEVENT
DTSTART;TZID=UTC:20250419T100000
DTEND;TZID=UTC:20250419T160000
DTSTAMP:20260424T105716
CREATED:20250331T190902Z
LAST-MODIFIED:20250331T190902Z
UID:10000661-1745056800-1745078400@visitcrestviewfl.com
SUMMARY:Emerald Coast Zoo Farmers Market
DESCRIPTION:Emerald Coast Zoo’s first farmers market will now take place Saturday\, April 19th!
URL:https://visitcrestviewfl.com/event/emerald-coast-zoo-farmers-market/
LOCATION:Emerald Coast Zoo\, 5262 Deer Springs Dr\, Crestview\, FL\, 32539\, United States
ATTACH;FMTTYPE=image/jpeg:https://visitcrestviewfl.com/wp-content/uploads/2025/03/484643534_961777136148072_9208413484216230263_n.jpg
END:VEVENT
END:VCALENDAR