
BEGIN:VCALENDAR
VERSION:2.0
PRODID:-//VisitCrestviewFL.com - ECPv6.15.20//NONSGML v1.0//EN
CALSCALE:GREGORIAN
METHOD:PUBLISH
X-ORIGINAL-URL:https://visitcrestviewfl.com
X-WR-CALDESC:Events for VisitCrestviewFL.com
REFRESH-INTERVAL;VALUE=DURATION:PT1H
X-Robots-Tag:noindex
X-PUBLISHED-TTL:PT1H
BEGIN:VTIMEZONE
TZID:UTC
BEGIN:STANDARD
TZOFFSETFROM:+0000
TZOFFSETTO:+0000
TZNAME:UTC
DTSTART:20240101T000000
END:STANDARD
END:VTIMEZONE
BEGIN:VEVENT
DTSTART;TZID=UTC:20250502T170000
DTEND;TZID=UTC:20250530T203000
DTSTAMP:20260424T064001
CREATED:20250331T190653Z
LAST-MODIFIED:20250903T224500Z
UID:10000653-1746205200-1748637000@visitcrestviewfl.com
SUMMARY:Downtown Crestview Food Truck Friday
DESCRIPTION:Mark your calendars for Food Truck Fridays on Main Street!\n\nEvery first Friday of the month\, Crestview brings the tastiest local food trucks downtown. Gather your friends and family for an evening filled with mouthwatering eats\, vibrant community vibes\, and loads of fun!\n\nWhether you’re craving savory bites or sweet treats\, there will be something for everyone! Eat\, mingle\, and make memories while supporting small businesses in the area.
URL:https://visitcrestviewfl.com/event/downtown-crestview-food-truck-friday/2025-05-02/
LOCATION:Downtown Crestview\, 311 N Main St\, Crestview\, FL\, 32536\, United States
ATTACH;FMTTYPE=image/jpeg:https://visitcrestviewfl.com/wp-content/uploads/2025/03/484921984_1070304548458190_2172917522114497694_n.jpg
END:VEVENT
BEGIN:VEVENT
DTSTART;TZID=UTC:20250503T100000
DTEND;TZID=UTC:20250503T100000
DTSTAMP:20260424T064001
CREATED:20250331T193621Z
LAST-MODIFIED:20250331T193621Z
UID:10000671-1746266400-1746266400@visitcrestviewfl.com
SUMMARY:Mommy and Me Brunch
DESCRIPTION:Disney-Inspired Mommy & Me Brunch Get Tickets Here: https://www.eventbrite.com/…/mommy-and-me-brunch…\n\nA magical morning filled with fun\, food\, and fundraising!\n\nThe Disney-Inspired Mommy & Me Brunch is a special event bringing families together to create unforgettable memories while supporting two incredible causes: Kada’s Promise and Hub City Bulldogs.\n\nAbout the Causes:\nKada’s Promise was founded by Kadance Fredericksen\, a survivor of abuse and homelessness\, who understood the power of comfort in difficult times. Though she is no longer with us\, her mission continues—providing teddy bears and blankets to children in foster care\, homeless shelters\, and abuse shelters to ensure they feel loved and supported.\nHub City Bulldogs is a local youth athletic organization that provides mentorship\, community support\, and opportunities for young athletes to grow and succeed.\n\nWhat to Expect:\n\nDelicious brunch & themed treats\nPhoto opportunities with Disney characters\nEntertainment & fun activities for kids\nSilent & live auctions with amazing items\nDress up in your favorite Disney attire for extra fun!\n\nHow You Can Help:\n\nThey are seeking silent auction and live auction item donations such as gift baskets\, products\, experiences\, event tickets\, or services. If you or your business would like to contribute\, please reach out!\n\nContact:Email: tanya@thepropertygroup850.comPhone: (850) 376-0108\n\nTickets:\n$30 per Adult$15 per Child$200 per Table (Includes 8 Tickets)\nAll ticket sales are final. No refunds will be given. If you are unable to attend\, you may transfer your ticket or consider it a donation to these meaningful causes.Don’t miss this enchanting event that combines family fun with giving back to children in need. We can’t wait to see you there!
URL:https://visitcrestviewfl.com/event/mommy-and-me-brunch/
LOCATION:Crestview Community Center\, 1446 Commerce Dr\, Crestview\, FL\, 32539\, United States
ATTACH;FMTTYPE=image/jpeg:https://visitcrestviewfl.com/wp-content/uploads/2025/03/484012205_686666813709357_7483795653374203302_n.jpg
END:VEVENT
BEGIN:VEVENT
DTSTART;TZID=UTC:20250503T140000
DTEND;TZID=UTC:20250503T190000
DTSTAMP:20260424T064001
CREATED:20250331T191120Z
LAST-MODIFIED:20250331T191120Z
UID:10000662-1746280800-1746298800@visitcrestviewfl.com
SUMMARY:City of Crestview's 2nd Annual International Festival
DESCRIPTION:An unforgettable celebration of the vibrant cultures that make the community unique! This festival is a perfect opportunity to immerse yourself in the rich tapestry of traditions\, cuisines\, and performances from around the globe.\n\n Indulge in a delicious variety of cultural foods\, each bite telling a story of heritage and history. Enjoy mesmerizing performances and live music that will transport you to different corners of the world. Connect with friends and neighbors\, and embrace the beauty of diversity that strengthens our community.\n\nCRESTVIEW IS NOW ACCEPTING FOOD VENDORS AND PERFORMERS FOR THE INTERNATIONAL FESTIVAL! Please register now\, as the spots are limited. It’s a first come\, first serve basis to make sure all countries and cultures are represented at the event.Food Vendor and Booth Application: https://loom.ly/2vB_mRk Performers Application: https://loom.ly/Tp1DF1c \n\nDon’t miss out on this incredible chance to celebrate unity in diversity. Everyone is welcome—wear your cultural dress! Let’s come together to appreciate our differences and make unforgettable memories.
URL:https://visitcrestviewfl.com/event/city-of-crestviews-2nd-annual-international-festival/
LOCATION:Downtown Crestview\, 311 N Main St\, Crestview\, FL\, 32536\, United States
ATTACH;FMTTYPE=image/jpeg:https://visitcrestviewfl.com/wp-content/uploads/2025/03/486550428_959977042989024_2630702817483198243_n.jpg
END:VEVENT
END:VCALENDAR