
BEGIN:VCALENDAR
VERSION:2.0
PRODID:-//VisitCrestviewFL.com - ECPv6.15.20//NONSGML v1.0//EN
CALSCALE:GREGORIAN
METHOD:PUBLISH
X-WR-CALNAME:VisitCrestviewFL.com
X-ORIGINAL-URL:https://visitcrestviewfl.com
X-WR-CALDESC:Events for VisitCrestviewFL.com
REFRESH-INTERVAL;VALUE=DURATION:PT1H
X-Robots-Tag:noindex
X-PUBLISHED-TTL:PT1H
BEGIN:VTIMEZONE
TZID:UTC
BEGIN:STANDARD
TZOFFSETFROM:+0000
TZOFFSETTO:+0000
TZNAME:UTC
DTSTART:20240101T000000
END:STANDARD
END:VTIMEZONE
BEGIN:VEVENT
DTSTART;TZID=UTC:20250502T170000
DTEND;TZID=UTC:20250530T203000
DTSTAMP:20260424T075200
CREATED:20250331T190653Z
LAST-MODIFIED:20250903T224500Z
UID:10000653-1746205200-1748637000@visitcrestviewfl.com
SUMMARY:Downtown Crestview Food Truck Friday
DESCRIPTION:Mark your calendars for Food Truck Fridays on Main Street!\n\nEvery first Friday of the month\, Crestview brings the tastiest local food trucks downtown. Gather your friends and family for an evening filled with mouthwatering eats\, vibrant community vibes\, and loads of fun!\n\nWhether you’re craving savory bites or sweet treats\, there will be something for everyone! Eat\, mingle\, and make memories while supporting small businesses in the area.
URL:https://visitcrestviewfl.com/event/downtown-crestview-food-truck-friday/2025-05-02/
LOCATION:Downtown Crestview\, 311 N Main St\, Crestview\, FL\, 32536\, United States
ATTACH;FMTTYPE=image/jpeg:https://visitcrestviewfl.com/wp-content/uploads/2025/03/484921984_1070304548458190_2172917522114497694_n.jpg
END:VEVENT
BEGIN:VEVENT
DTSTART;TZID=UTC:20250517T080000
DTEND;TZID=UTC:20250517T120000
DTSTAMP:20260424T075200
CREATED:20250509T204618Z
LAST-MODIFIED:20250509T204618Z
UID:10000683-1747468800-1747483200@visitcrestviewfl.com
SUMMARY:Midtown Crestview Farmers Market
DESCRIPTION:The next Midtown Crestview Farmers Market is May 17th! This is a small monthly farmers’ market located on the lawn at Bundrick Honey Farms/Treasures and Treats in Crestview. Their mission is to connect local farmers and makers to our community with the hope for small businesses to prosper\, and for the residents of Crestview to have the opportunity to enjoy freshly grown produce\, local fare\, and handmade items. They are always accepting new vendors! Be sure to mark it in your calendars!
URL:https://visitcrestviewfl.com/event/midtown-crestview-farmers-market/
LOCATION:Bundrick Honey Farms/Treasures and Treats\, 398 Walden St\, Crestview\, FL\, 32536\, United States
ATTACH;FMTTYPE=image/jpeg:https://visitcrestviewfl.com/wp-content/uploads/2025/05/489529495_694597556473884_1354410285392384245_n.jpg
END:VEVENT
BEGIN:VEVENT
DTSTART;TZID=UTC:20250517T170000
DTEND;TZID=UTC:20250517T220000
DTSTAMP:20260424T075200
CREATED:20250509T202358Z
LAST-MODIFIED:20250509T202358Z
UID:10000674-1747501200-1747519200@visitcrestviewfl.com
SUMMARY:Free Line Dancing with Keegan
DESCRIPTION:Boots\, Beats & Line Dancing with Keegan – Free Fun at the Saloon!\n\nGrab your boots and bring your friends—Keegan’s leading a night of high-energy\, toe-tapping line dancing you won’t want to miss!\n\nDoors open at 5 PMDancing kicks off at 7 PM under the Pavilion\n\nWhether you’re a seasoned pro or stepping in for the first time\, everyone’s welcome—no experience needed!\n\nCome hungry! The Saloon will be serving up a full dinner menu and pouring from the full bar all night.
URL:https://visitcrestviewfl.com/event/free-line-dancing-with-keegan/
LOCATION:Laurel Hill Farm\, LLC\, 6300 Bill Lundy Rd.\, Laurel Hill\, FL\, 32567\, United States
ATTACH;FMTTYPE=image/jpeg:https://visitcrestviewfl.com/wp-content/uploads/2025/05/495221808_1289486433180760_9019520405507787164_n.jpg
END:VEVENT
BEGIN:VEVENT
DTSTART;TZID=UTC:20250517T180000
DTEND;TZID=UTC:20250517T180000
DTSTAMP:20260424T075200
CREATED:20250509T202221Z
LAST-MODIFIED:20250509T202221Z
UID:10000673-1747504800-1747504800@visitcrestviewfl.com
SUMMARY:Paint your Doormat
DESCRIPTION:Awonderful night of fun and creativity! You can choose your design. If you want one not pictured message us. Each doormat is $35. \nDoors open at 5:30pm \nAll skill levels are welcome! \nTo sign up\, message through Facebook or you can text 850-685-8420. We will need your name and either an email or phone number. We will send an invoice. (Seats are limited to first come\, first serve basis.) \nYou are welcome to bring your own beverages and snacks.
URL:https://visitcrestviewfl.com/event/paint-your-doormat/
LOCATION:Team Ventures of NWF\, INC.\, 1584 Pearl St. South\, Crestview\, FL\, 32536\, United States
ATTACH;FMTTYPE=image/jpeg:https://visitcrestviewfl.com/wp-content/uploads/2025/05/493146454_122228842472229833_4519120257734641790_n.jpg
END:VEVENT
END:VCALENDAR