
BEGIN:VCALENDAR
VERSION:2.0
PRODID:-//VisitCrestviewFL.com - ECPv6.15.20//NONSGML v1.0//EN
CALSCALE:GREGORIAN
METHOD:PUBLISH
X-WR-CALNAME:VisitCrestviewFL.com
X-ORIGINAL-URL:https://visitcrestviewfl.com
X-WR-CALDESC:Events for VisitCrestviewFL.com
REFRESH-INTERVAL;VALUE=DURATION:PT1H
X-Robots-Tag:noindex
X-PUBLISHED-TTL:PT1H
BEGIN:VTIMEZONE
TZID:UTC
BEGIN:STANDARD
TZOFFSETFROM:+0000
TZOFFSETTO:+0000
TZNAME:UTC
DTSTART:20240101T000000
END:STANDARD
END:VTIMEZONE
BEGIN:VEVENT
DTSTART;TZID=UTC:20250606T170000
DTEND;TZID=UTC:20250704T203000
DTSTAMP:20260424T075216
CREATED:20250331T190653Z
LAST-MODIFIED:20250903T224500Z
UID:10000654-1749229200-1751661000@visitcrestviewfl.com
SUMMARY:Downtown Crestview Food Truck Friday
DESCRIPTION:Mark your calendars for Food Truck Fridays on Main Street!\n\nEvery first Friday of the month\, Crestview brings the tastiest local food trucks downtown. Gather your friends and family for an evening filled with mouthwatering eats\, vibrant community vibes\, and loads of fun!\n\nWhether you’re craving savory bites or sweet treats\, there will be something for everyone! Eat\, mingle\, and make memories while supporting small businesses in the area.
URL:https://visitcrestviewfl.com/event/downtown-crestview-food-truck-friday/2025-06-06/
LOCATION:Downtown Crestview\, 311 N Main St\, Crestview\, FL\, 32536\, United States
ATTACH;FMTTYPE=image/jpeg:https://visitcrestviewfl.com/wp-content/uploads/2025/03/484921984_1070304548458190_2172917522114497694_n.jpg
END:VEVENT
BEGIN:VEVENT
DTSTART;TZID=UTC:20250628T100000
DTEND;TZID=UTC:20250628T140000
DTSTAMP:20260424T075216
CREATED:20250620T210826Z
LAST-MODIFIED:20250620T210826Z
UID:10000698-1751104800-1751119200@visitcrestviewfl.com
SUMMARY:Dog Adoption Event
DESCRIPTION:Come where it’s cool to this new venue to find a new pup or about how you can help!!
URL:https://visitcrestviewfl.com/event/dog-adoption-event/
LOCATION:Crestview Community Center\, 1446 Commerce Dr\, Crestview\, FL\, 32539\, United States
ATTACH;FMTTYPE=image/jpeg:https://visitcrestviewfl.com/wp-content/uploads/2025/06/494727950_1122338619928643_4373908424014069424_n.jpg
END:VEVENT
BEGIN:VEVENT
DTSTART;TZID=UTC:20250628T110000
DTEND;TZID=UTC:20250628T110000
DTSTAMP:20260424T075216
CREATED:20250620T211812Z
LAST-MODIFIED:20250620T211812Z
UID:10000701-1751108400-1751108400@visitcrestviewfl.com
SUMMARY:Dan Patch Days Grand Parade
DESCRIPTION:One of Savage’s most beloved traditions — the Dan Patch Days Parade! Named in honor of the legendary pacer Dan Patch\, this celebration brings our community together with music\, memories\, and a colorful display of community spirit.\n\nSaturday\, June 28 • 11 a.m.(Parade lineup: 10 a.m.)\nView the Parade Route: https://www.danpatchdays.org/…/parade_route_map_2022…\n\nGET INVOLVED!Are you a local business or organization interested in participating? We’d love to have you join the lineup! Showcase your group\, connect with our community\, and be part of something special.\nFor details on how to join the parade\, visit our website: https://www.danpatchdays.org/get-involved.html#/
URL:https://visitcrestviewfl.com/event/dan-patch-days-grand-parade/
LOCATION:Downtown Savage\, 354 S Savage St.\, Crestview\, FL\, 32563\, United States
ATTACH;FMTTYPE=image/jpeg:https://visitcrestviewfl.com/wp-content/uploads/2025/06/491648411_976770184664099_915098288055592498_n.jpg
END:VEVENT
BEGIN:VEVENT
DTSTART;TZID=UTC:20250628T150000
DTEND;TZID=UTC:20250628T150000
DTSTAMP:20260424T075216
CREATED:20250604T202059Z
LAST-MODIFIED:20250604T202059Z
UID:10000693-1751122800-1751122800@visitcrestviewfl.com
SUMMARY:Grow Your Gift - Crestview Grand Opening
DESCRIPTION:Grow Your Gift Music is now in Crestview! Come celebrate with us as we share fun music\, prizes\, and of course our famous Instrument Petting Zoo with you! Food trucks will be on site as well!\n\nThis event is FREE and open to the public so bring the whole family!
URL:https://visitcrestviewfl.com/event/grow-your-gift-crestview-grand-opening/
LOCATION:Grow Your Gift Conservatory of Music\, 928 N Ferdon Blvd\, Crestview\, FL\, 32536\, United States
ATTACH;FMTTYPE=image/jpeg:https://visitcrestviewfl.com/wp-content/uploads/2025/06/499361173_1244402914351927_7320766639606610039_n.jpg
END:VEVENT
BEGIN:VEVENT
DTSTART;TZID=UTC:20250628T170000
DTEND;TZID=UTC:20250628T220000
DTSTAMP:20260424T075216
CREATED:20250604T200221Z
LAST-MODIFIED:20250604T200221Z
UID:10000685-1751130000-1751148000@visitcrestviewfl.com
SUMMARY:The Cheyenne Band Liver at the Saloon
DESCRIPTION:A live\, full-band performance by the Cheyenne Band!\n\nDoors open at 5 pm serving food & full bar!\n\nLive music from 6-10 pm\n\n*They recommend bringing your own lawn chair as they are expecting a big turn out!*
URL:https://visitcrestviewfl.com/event/the-cheyenne-band-liver-at-the-saloon/
LOCATION:Laurel Hill Farm\, LLC\, 6300 Bill Lundy Rd.\, Laurel Hill\, FL\, 32567\, United States
ATTACH;FMTTYPE=image/jpeg:https://visitcrestviewfl.com/wp-content/uploads/2025/06/497701304_1296801155782621_7075095055567062019_n.jpg
END:VEVENT
END:VCALENDAR