
BEGIN:VCALENDAR
VERSION:2.0
PRODID:-//VisitCrestviewFL.com - ECPv6.15.20//NONSGML v1.0//EN
CALSCALE:GREGORIAN
METHOD:PUBLISH
X-ORIGINAL-URL:https://visitcrestviewfl.com
X-WR-CALDESC:Events for VisitCrestviewFL.com
REFRESH-INTERVAL;VALUE=DURATION:PT1H
X-Robots-Tag:noindex
X-PUBLISHED-TTL:PT1H
BEGIN:VTIMEZONE
TZID:UTC
BEGIN:STANDARD
TZOFFSETFROM:+0000
TZOFFSETTO:+0000
TZNAME:UTC
DTSTART:20240101T000000
END:STANDARD
END:VTIMEZONE
BEGIN:VEVENT
DTSTART;TZID=UTC:20250606T170000
DTEND;TZID=UTC:20250704T203000
DTSTAMP:20260424T032404
CREATED:20250331T190653Z
LAST-MODIFIED:20250903T224500Z
UID:10000654-1749229200-1751661000@visitcrestviewfl.com
SUMMARY:Downtown Crestview Food Truck Friday
DESCRIPTION:Mark your calendars for Food Truck Fridays on Main Street!\n\nEvery first Friday of the month\, Crestview brings the tastiest local food trucks downtown. Gather your friends and family for an evening filled with mouthwatering eats\, vibrant community vibes\, and loads of fun!\n\nWhether you’re craving savory bites or sweet treats\, there will be something for everyone! Eat\, mingle\, and make memories while supporting small businesses in the area.
URL:https://visitcrestviewfl.com/event/downtown-crestview-food-truck-friday/2025-06-06/
LOCATION:Downtown Crestview\, 311 N Main St\, Crestview\, FL\, 32536\, United States
ATTACH;FMTTYPE=image/jpeg:https://visitcrestviewfl.com/wp-content/uploads/2025/03/484921984_1070304548458190_2172917522114497694_n.jpg
END:VEVENT
BEGIN:VEVENT
DTSTART;TZID=UTC:20250704T000000
DTEND;TZID=UTC:20250704T230000
DTSTAMP:20260424T032404
CREATED:20250703T193113Z
LAST-MODIFIED:20250703T193120Z
UID:10000706-1751587200-1751670000@visitcrestviewfl.com
SUMMARY:4th of July at The Eagles Nest
DESCRIPTION:Who’s excited for the 4th of July? Come crack some crab legs and fireworks with us this 4th of July\, here at the Eagles Nest!\n\nAYCE crab until 10pm\, 4th of July food and drink specials\, and lots of fun!
URL:https://visitcrestviewfl.com/event/4th-of-july-at-the-eagles-nest/
LOCATION:Eagle’s Nest at Blackwater\, 4927 Antioch Rd\, Crestview\, FL\, 32536\, United States
ATTACH;FMTTYPE=image/jpeg:https://visitcrestviewfl.com/wp-content/uploads/2025/07/513272430_582358571609812_2286548557956474810_n.jpg
END:VEVENT
BEGIN:VEVENT
DTSTART;TZID=UTC:20250704T120000
DTEND;TZID=UTC:20250704T120000
DTSTAMP:20260424T032404
CREATED:20250620T210205Z
LAST-MODIFIED:20250620T210205Z
UID:10000695-1751630400-1751630400@visitcrestviewfl.com
SUMMARY:Post 75th July 4th Family Bash
DESCRIPTION:Celebrate Independence Day!!\n\nThere will be live music in the Lounge by Ed Warren and Josh Davis. Family Friendly fun all day that will include a dunk tank and a water slide. Free Hot Dogs (while supplies last).\n\nStick around for Band Night starting at 7:30 featuring Aftermath 5.\n\nEnjoy primo location of the City of Crestview Fireworks.\n\nBring your family and friends!!\n\nPlease Note: Parking designated for current 2025 Legion Members only during this event.
URL:https://visitcrestviewfl.com/event/post-75th-july-4th-family-bash/
LOCATION:American Legion Post 75\, 898 East James Lee Blvd\, Crestview\, FL\, 32539\, United States
ATTACH;FMTTYPE=image/jpeg:https://visitcrestviewfl.com/wp-content/uploads/2025/06/492400898_122220449306136621_228054979433449904_n.jpg
END:VEVENT
BEGIN:VEVENT
DTSTART;TZID=UTC:20250704T140000
DTEND;TZID=UTC:20250704T213000
DTSTAMP:20260424T032404
CREATED:20250703T192951Z
LAST-MODIFIED:20250703T192951Z
UID:10000705-1751637600-1751664600@visitcrestviewfl.com
SUMMARY:4th of July Celebration
DESCRIPTION:The 4th of July Celebration at Twin Hills ParkJoin for a day full of fun\, food\, and freedom at Crestview’s Fourth of July Celebration at Twin Hills Park!\n\nFood Trucks | Shopping | Kid Fun | Live Music | Fireworks\n\nLive Concert Lineup:• 2 PM – Scale Fracture• 4 PM – Eric & Steven Demara• 6 PM – Five Runs\n\nFireworks Show at 9 PM – Bring your blankets\, lawn chairs\, and patriotic spirit!\n\nEnjoy an afternoon of local eats\, vendors\, games for the kids\, and non-stop entertainment—all leading up to a spectacular fireworks finale. It’s the perfect way to celebrate Independence Day with the whole family!\n\nPresented by the City of Crestview.\nMusic sponsored by The Fox Theater\, CCB Bank\, Cadenhead Pest Control\, Joey the Jeweler\, The Vue MediSpa\, Highway 98 Radio
URL:https://visitcrestviewfl.com/event/4th-of-july-celebration/
LOCATION:Twin Hills Park\, 100 N Hathaway St\, Crestview\, FL\, 32539\, United States
ATTACH;FMTTYPE=image/jpeg:https://visitcrestviewfl.com/wp-content/uploads/2025/07/504829842_122223439100089006_4764215510773508332_n.jpg
END:VEVENT
BEGIN:VEVENT
DTSTART;TZID=UTC:20250704T170000
DTEND;TZID=UTC:20250704T200000
DTSTAMP:20260424T032404
CREATED:20250604T201853Z
LAST-MODIFIED:20250604T201853Z
UID:10000692-1751648400-1751659200@visitcrestviewfl.com
SUMMARY:Fourth of July Food Truck Friday
DESCRIPTION:A fun-filled evening as the streets come alive with food trucks and vendors offering everything from delicious eats to unique goods! Experience the charm of an old-time market as you:\n\nTry a variety of tasty dishes from our food trucks.\n\nShop the sidewalks and support local vendors.\n\nExplore the Main Street merchants for even more treasures.\n\nDon’t miss this wonderful community event—there’s something for everyone! See you downtown!\n\nFood Trucks Vendors Register Here:\nhttps://www.cityofcrestview.org/…/city-of-crestview…\nSidewalk Craft Vendors Register Here:\nhttps://www.cityofcrestview.org/…/city-of-crestview…
URL:https://visitcrestviewfl.com/event/fourth-of-july-food-truck-friday/
LOCATION:Main Street\, 3170 Main St\, Crestview\, FL\, 32539\, United States
ATTACH;FMTTYPE=image/jpeg:https://visitcrestviewfl.com/wp-content/uploads/2025/06/481217661_122205058250089006_6355998366553441193_n.jpg
END:VEVENT
BEGIN:VEVENT
DTSTART;TZID=UTC:20250704T170000
DTEND;TZID=UTC:20250801T203000
DTSTAMP:20260424T032404
CREATED:20250331T190653Z
LAST-MODIFIED:20250903T224500Z
UID:10000655-1751648400-1754080200@visitcrestviewfl.com
SUMMARY:Downtown Crestview Food Truck Friday
DESCRIPTION:Mark your calendars for Food Truck Fridays on Main Street!\n\nEvery first Friday of the month\, Crestview brings the tastiest local food trucks downtown. Gather your friends and family for an evening filled with mouthwatering eats\, vibrant community vibes\, and loads of fun!\n\nWhether you’re craving savory bites or sweet treats\, there will be something for everyone! Eat\, mingle\, and make memories while supporting small businesses in the area.
URL:https://visitcrestviewfl.com/event/downtown-crestview-food-truck-friday/2025-07-04/
LOCATION:Downtown Crestview\, 311 N Main St\, Crestview\, FL\, 32536\, United States
ATTACH;FMTTYPE=image/jpeg:https://visitcrestviewfl.com/wp-content/uploads/2025/03/484921984_1070304548458190_2172917522114497694_n.jpg
END:VEVENT
END:VCALENDAR