
BEGIN:VCALENDAR
VERSION:2.0
PRODID:-//VisitCrestviewFL.com - ECPv6.15.20//NONSGML v1.0//EN
CALSCALE:GREGORIAN
METHOD:PUBLISH
X-WR-CALNAME:VisitCrestviewFL.com
X-ORIGINAL-URL:https://visitcrestviewfl.com
X-WR-CALDESC:Events for VisitCrestviewFL.com
REFRESH-INTERVAL;VALUE=DURATION:PT1H
X-Robots-Tag:noindex
X-PUBLISHED-TTL:PT1H
BEGIN:VTIMEZONE
TZID:UTC
BEGIN:STANDARD
TZOFFSETFROM:+0000
TZOFFSETTO:+0000
TZNAME:UTC
DTSTART:20240101T000000
END:STANDARD
END:VTIMEZONE
BEGIN:VEVENT
DTSTART;TZID=UTC:20250704T170000
DTEND;TZID=UTC:20250801T203000
DTSTAMP:20260424T032204
CREATED:20250331T190653Z
LAST-MODIFIED:20250903T224500Z
UID:10000655-1751648400-1754080200@visitcrestviewfl.com
SUMMARY:Downtown Crestview Food Truck Friday
DESCRIPTION:Mark your calendars for Food Truck Fridays on Main Street!\n\nEvery first Friday of the month\, Crestview brings the tastiest local food trucks downtown. Gather your friends and family for an evening filled with mouthwatering eats\, vibrant community vibes\, and loads of fun!\n\nWhether you’re craving savory bites or sweet treats\, there will be something for everyone! Eat\, mingle\, and make memories while supporting small businesses in the area.
URL:https://visitcrestviewfl.com/event/downtown-crestview-food-truck-friday/2025-07-04/
LOCATION:Downtown Crestview\, 311 N Main St\, Crestview\, FL\, 32536\, United States
ATTACH;FMTTYPE=image/jpeg:https://visitcrestviewfl.com/wp-content/uploads/2025/03/484921984_1070304548458190_2172917522114497694_n.jpg
END:VEVENT
BEGIN:VEVENT
DTSTART;TZID=UTC:20250719T120000
DTEND;TZID=UTC:20250719T150000
DTSTAMP:20260424T032204
CREATED:20250711T154457Z
LAST-MODIFIED:20250711T154457Z
UID:10000716-1752926400-1752937200@visitcrestviewfl.com
SUMMARY:School Supply Giveaway
DESCRIPTION:A fun filled day of back to school giveaways\, free food\, games\, bouncy houses and more.
URL:https://visitcrestviewfl.com/event/school-supply-giveaway/
LOCATION:Allen Park aka Fairview Park\, McClelland Street\, Crestview\, FL\, 32539\, United States
ATTACH;FMTTYPE=image/jpeg:https://visitcrestviewfl.com/wp-content/uploads/2025/07/504718942_684379414520864_2295248382697477642_n.jpg
END:VEVENT
BEGIN:VEVENT
DTSTART;TZID=UTC:20250719T180000
DTEND;TZID=UTC:20250719T220000
DTSTAMP:20260424T032204
CREATED:20250703T193250Z
LAST-MODIFIED:20250703T193250Z
UID:10000707-1752948000-1752962400@visitcrestviewfl.com
SUMMARY:Back to 80's Prom
DESCRIPTION:Did you miss your prom- or just want a do-over with more neon\, better music\, and zero parental supervision? Dust off those shoulder pads\, tease that hair\, and relive the night you should have had!\n\nSave the date: July 19th!\n\nDJ\, Dancing\, Nostalgic Food & Drinks\, & more! 21+\nTickets: https://www.eventbrite.com/…/80s-prom-second-chance…
URL:https://visitcrestviewfl.com/event/back-to-80s-prom/
LOCATION:Laurel Hill Farm\, LLC\, 6300 Bill Lundy Rd.\, Laurel Hill\, FL\, 32567\, United States
ATTACH;FMTTYPE=image/jpeg:https://visitcrestviewfl.com/wp-content/uploads/2025/07/503562401_1314715800657823_1317777280257634741_n.jpg
END:VEVENT
BEGIN:VEVENT
DTSTART;TZID=UTC:20250719T190000
DTEND;TZID=UTC:20250719T230000
DTSTAMP:20260424T032205
CREATED:20250711T153803Z
LAST-MODIFIED:20250711T153803Z
UID:10000712-1752951600-1752966000@visitcrestviewfl.com
SUMMARY:Six Piece Suits at The Eagles Nest
DESCRIPTION:Join the Eagles Nest Saturday July 19th for an electrifying performance from six piece suits!
URL:https://visitcrestviewfl.com/event/six-piece-suits-at-the-eagles-nest/
LOCATION:Eagle’s Nest at Blackwater\, 4927 Antioch Rd\, Crestview\, FL\, 32536\, United States
ATTACH;FMTTYPE=image/jpeg:https://visitcrestviewfl.com/wp-content/uploads/2025/07/517027647_592745147237821_7075761589501385208_n.jpg
END:VEVENT
END:VCALENDAR