
BEGIN:VCALENDAR
VERSION:2.0
PRODID:-//VisitCrestviewFL.com - ECPv6.15.20//NONSGML v1.0//EN
CALSCALE:GREGORIAN
METHOD:PUBLISH
X-ORIGINAL-URL:https://visitcrestviewfl.com
X-WR-CALDESC:Events for VisitCrestviewFL.com
REFRESH-INTERVAL;VALUE=DURATION:PT1H
X-Robots-Tag:noindex
X-PUBLISHED-TTL:PT1H
BEGIN:VTIMEZONE
TZID:UTC
BEGIN:STANDARD
TZOFFSETFROM:+0000
TZOFFSETTO:+0000
TZNAME:UTC
DTSTART:20240101T000000
END:STANDARD
END:VTIMEZONE
BEGIN:VEVENT
DTSTART;TZID=UTC:20250704T170000
DTEND;TZID=UTC:20250801T203000
DTSTAMP:20260424T032357
CREATED:20250331T190653Z
LAST-MODIFIED:20250903T224500Z
UID:10000655-1751648400-1754080200@visitcrestviewfl.com
SUMMARY:Downtown Crestview Food Truck Friday
DESCRIPTION:Mark your calendars for Food Truck Fridays on Main Street!\n\nEvery first Friday of the month\, Crestview brings the tastiest local food trucks downtown. Gather your friends and family for an evening filled with mouthwatering eats\, vibrant community vibes\, and loads of fun!\n\nWhether you’re craving savory bites or sweet treats\, there will be something for everyone! Eat\, mingle\, and make memories while supporting small businesses in the area.
URL:https://visitcrestviewfl.com/event/downtown-crestview-food-truck-friday/2025-07-04/
LOCATION:Downtown Crestview\, 311 N Main St\, Crestview\, FL\, 32536\, United States
ATTACH;FMTTYPE=image/jpeg:https://visitcrestviewfl.com/wp-content/uploads/2025/03/484921984_1070304548458190_2172917522114497694_n.jpg
END:VEVENT
BEGIN:VEVENT
DTSTART;TZID=UTC:20250726T080000
DTEND;TZID=UTC:20250726T110000
DTSTAMP:20260424T032357
CREATED:20250711T154210Z
LAST-MODIFIED:20250711T154210Z
UID:10000715-1753516800-1753527600@visitcrestviewfl.com
SUMMARY:The Market Downtown
DESCRIPTION:A vibrant farmers market featuring a wide selection of artisanal and consumable goods. Shop for fresh produce\, jams\, jellies\, baked goods\, handmade soaps\, lotions\, pickles\, and more!\n\nAfter shopping\, enjoy delicious meals from the food trucks on-site. Spend your Saturday morning exploring downtown\, supporting local vendors\, and enjoying the lively atmosphere with the Downtown Merchants and the City of Crestview.\n\nThis is a growing event you won’t want to miss!
URL:https://visitcrestviewfl.com/event/the-market-downtown-3/
LOCATION:Main Street\, 3170 Main St\, Crestview\, FL\, 32539\, United States
ATTACH;FMTTYPE=image/jpeg:https://visitcrestviewfl.com/wp-content/uploads/2025/07/508617914_122226003650089006_2698807391556482763_n.jpg
END:VEVENT
BEGIN:VEVENT
DTSTART;TZID=UTC:20250726T170000
DTEND;TZID=UTC:20250726T210000
DTSTAMP:20260424T032357
CREATED:20250703T192819Z
LAST-MODIFIED:20250703T192819Z
UID:10000704-1753549200-1753563600@visitcrestviewfl.com
SUMMARY:The Wizarding World Mystic Market
DESCRIPTION:Mark Your Calendars!\n\nThe Crestview Market — a vibrant local market experience happening July 26th from 5 PM to 9 PM at Eagle’s Nest at Blackwater\, your favorite local hangout right on the golf course!\n\nLocal VendorsGreat Food & DrinksChill Atmosphere\nBeautiful Views\n\nWhether you’re shopping local\, grabbing lunch\, or just enjoying a day out—this is the perfect summer stop!\nEagle’s Nest at BlackwaterFriday\, July 26 |  5PM–9PM\n\nBring your friends\, your family\, and your appetite—we’ll see you there!
URL:https://visitcrestviewfl.com/event/the-wizarding-world-mystic-market/
LOCATION:Eagle’s Nest at Blackwater\, 4927 Antioch Rd\, Crestview\, FL\, 32536\, United States
ATTACH;FMTTYPE=image/jpeg:https://visitcrestviewfl.com/wp-content/uploads/2025/07/503708973_122247516194066170_5245173957312457702_n.jpg
END:VEVENT
END:VCALENDAR