
BEGIN:VCALENDAR
VERSION:2.0
PRODID:-//VisitCrestviewFL.com - ECPv6.15.20//NONSGML v1.0//EN
CALSCALE:GREGORIAN
METHOD:PUBLISH
X-ORIGINAL-URL:https://visitcrestviewfl.com
X-WR-CALDESC:Events for VisitCrestviewFL.com
REFRESH-INTERVAL;VALUE=DURATION:PT1H
X-Robots-Tag:noindex
X-PUBLISHED-TTL:PT1H
BEGIN:VTIMEZONE
TZID:UTC
BEGIN:STANDARD
TZOFFSETFROM:+0000
TZOFFSETTO:+0000
TZNAME:UTC
DTSTART:20240101T000000
END:STANDARD
END:VTIMEZONE
BEGIN:VEVENT
DTSTART;TZID=UTC:20251025T160000
DTEND;TZID=UTC:20251025T200000
DTSTAMP:20260423T224839
CREATED:20250904T155318Z
LAST-MODIFIED:20250904T155357Z
UID:10000730-1761408000-1761422400@visitcrestviewfl.com
SUMMARY:Downtown Fall Festival
DESCRIPTION: Fall Festival 2025 Get ready for a day of festive fun at the Fall For Downtown Festival 2025 — a family-friendly celebration you won’t want to miss!\n Here’s what’s in store: A wide variety of amazing vendors Delicious local food trucks Tons of fun and engaging kids’ activities Trick-or-treating throughout the festival Trunk-or-Treat hosted by the City of Crestview A live DJ bringing the energy Costume Contest for all ages — come dressed to impress!\nWhether you’re bringing the kiddos for candy and crafts or just looking to soak in some fall vibes\, there’s something for everyone. Costumes encouraged — and prizes will be awarded for the best ones at the annual costume contest!\n\n Register here: http://bit.ly/3GNVD9N \n\n\nCome make some fall memories with us — we’ll see you there! 
URL:https://visitcrestviewfl.com/event/downtown-fall-festival/
LOCATION:Downtown Crestview\, 311 N Main St\, Crestview\, FL\, 32536\, United States
ATTACH;FMTTYPE=image/jpeg:https://visitcrestviewfl.com/wp-content/uploads/2025/09/fallfestival.jpg
END:VEVENT
END:VCALENDAR