
BEGIN:VCALENDAR
VERSION:2.0
PRODID:-//VisitCrestviewFL.com - ECPv6.15.20//NONSGML v1.0//EN
CALSCALE:GREGORIAN
METHOD:PUBLISH
X-WR-CALNAME:VisitCrestviewFL.com
X-ORIGINAL-URL:https://visitcrestviewfl.com
X-WR-CALDESC:Events for VisitCrestviewFL.com
REFRESH-INTERVAL;VALUE=DURATION:PT1H
X-Robots-Tag:noindex
X-PUBLISHED-TTL:PT1H
BEGIN:VTIMEZONE
TZID:UTC
BEGIN:STANDARD
TZOFFSETFROM:+0000
TZOFFSETTO:+0000
TZNAME:UTC
DTSTART:20240101T000000
END:STANDARD
END:VTIMEZONE
BEGIN:VEVENT
DTSTART;TZID=UTC:20250905T170000
DTEND;TZID=UTC:20250905T203000
DTSTAMP:20260423T224739
CREATED:20250904T154620Z
LAST-MODIFIED:20250904T154620Z
UID:10000728-1757091600-1757104200@visitcrestviewfl.com
SUMMARY:Downtown Crestview Food Truck Friday
DESCRIPTION:Mark your calendars for Food Truck Fridays on Main Street!\n\nEvery first Friday of the month\, Crestview brings the tastiest local food trucks downtown. Gather your friends and family for an evening filled with mouthwatering eats\, vibrant community vibes\, and loads of fun!\n\nWhether you’re craving savory bites or sweet treats\, there will be something for everyone! Eat\, mingle\, and make memories while supporting small businesses in the area.
URL:https://visitcrestviewfl.com/event/downtown-crestview-food-truck-friday-3/
LOCATION:Downtown Crestview\, 311 N Main St\, Crestview\, FL\, 32536\, United States
ATTACH;FMTTYPE=image/jpeg:https://visitcrestviewfl.com/wp-content/uploads/2025/03/484921984_1070304548458190_2172917522114497694_n.jpg
END:VEVENT
BEGIN:VEVENT
DTSTART;TZID=UTC:20250927T090000
DTEND;TZID=UTC:20250927T130000
DTSTAMP:20260423T224739
CREATED:20250904T154944Z
LAST-MODIFIED:20250904T154944Z
UID:10000729-1758963600-1758978000@visitcrestviewfl.com
SUMMARY:The Market Downtown
DESCRIPTION: Crestview’s Monthly Pop-Up Market! \nJoin us each month as the City of Crestview teams up with our Crestview Main Street Merchants to bring you a one-of-a-kind Pop-Up Market Downtown! Explore fresh\, local flavors\, vibrant flowers\, lush plants\, and artisanal goods from local farms and ranches in our community.\n\n What to Expect:– Farm-fresh produce and seasonal delights– Delicious food from local culinary talent– Beautiful flowers and plants for your home and garden\n\n Event Details: 9:00 a.m. – 1:00 p.m. Downtown Crestview | Main Street\, Courthouse Terrace\n\nBring your family and friends\, support local businesses\, and enjoy a vibrant community atmosphere. Don’t miss out on this amazing opportunity to shop local and savor the best of North Okaloosa has to offer!
URL:https://visitcrestviewfl.com/event/the-market-downtown-4/
LOCATION:Downtown Crestview\, 311 N Main St\, Crestview\, FL\, 32536\, United States
ATTACH;FMTTYPE=image/jpeg:https://visitcrestviewfl.com/wp-content/uploads/2025/09/DowntownMarket.jpg
END:VEVENT
END:VCALENDAR