
BEGIN:VCALENDAR
VERSION:2.0
PRODID:-//VisitCrestviewFL.com - ECPv6.15.20//NONSGML v1.0//EN
CALSCALE:GREGORIAN
METHOD:PUBLISH
X-WR-CALNAME:VisitCrestviewFL.com
X-ORIGINAL-URL:https://visitcrestviewfl.com
X-WR-CALDESC:Events for VisitCrestviewFL.com
REFRESH-INTERVAL;VALUE=DURATION:PT1H
X-Robots-Tag:noindex
X-PUBLISHED-TTL:PT1H
BEGIN:VTIMEZONE
TZID:UTC
BEGIN:STANDARD
TZOFFSETFROM:+0000
TZOFFSETTO:+0000
TZNAME:UTC
DTSTART:20240101T000000
END:STANDARD
END:VTIMEZONE
BEGIN:VEVENT
DTSTART;TZID=UTC:20251207T170000
DTEND;TZID=UTC:20251207T210000
DTSTAMP:20260424T001439
CREATED:20250904T155833Z
LAST-MODIFIED:20251205T154428Z
UID:10000732-1765126800-1765141200@visitcrestviewfl.com
SUMMARY:Main Street Crestview Association Annual Christmas Parade
DESCRIPTION:The most magical night of the year is almost here! Join us in downtown Crestview as the streets come alive with lights\, music\, and holiday cheer for our Annual Christmas Parade.\n\n\nThis year’s theme is “A Storybook Christmas”  — so get ready to see your favorite holiday tales brought to life with dazzling floats\, marching bands\, performers\, and plenty of Christmas spirit. \n\n\n\n Special Guest Alert: Santa Claus himself will be making an appearance! Festive music\, sparkling lights\, and joyful memories await. \n\n\n\nBring the whole family\, grab your spot along Main Street\, and be part of a beloved Crestview tradition that kicks off the holiday season in style. You won’t want to miss this magical night! \n\n Want to join the parade? Floats\, groups\, and performers can register here  https://crestviewchristmasparade.eventbrite.com
URL:https://visitcrestviewfl.com/event/main-street-crestview-association-annual-christmas-parade/
LOCATION:Downtown Crestview\, 311 N Main St\, Crestview\, FL\, 32536\, United States
ATTACH;FMTTYPE=image/jpeg:https://visitcrestviewfl.com/wp-content/uploads/2025/09/540618716_1107268068166345_573805136250126819_n.jpg
END:VEVENT
BEGIN:VEVENT
DTSTART;TZID=UTC:20251219T150000
DTEND;TZID=UTC:20251219T160000
DTSTAMP:20260424T001439
CREATED:20251219T180640Z
LAST-MODIFIED:20251219T180640Z
UID:10000734-1766156400-1766160000@visitcrestviewfl.com
SUMMARY:How the Grinch Stole Christmas at the Bush House
DESCRIPTION:How the Grinch Stole Christmas!\nFriday\, Dec. 19 at 3PM \nThe Bush House/Crestview History Museum \n\n198 South Wilson Street\n\nFree entry! \n 
URL:https://visitcrestviewfl.com/event/how-the-grinch-stole-christmas-at-the-bush-house/
LOCATION:Crestview History Museum\, 198 S Wilson St\, Crestview\,\, FL\, 32536\, United States
ATTACH;FMTTYPE=image/jpeg:https://visitcrestviewfl.com/wp-content/uploads/2025/12/Grinchposteradj-scaled.jpg
END:VEVENT
BEGIN:VEVENT
DTSTART;TZID=UTC:20251231T170000
DTEND;TZID=UTC:20260101T000000
DTSTAMP:20260424T001439
CREATED:20251219T182647Z
LAST-MODIFIED:20251219T182647Z
UID:10000735-1767200400-1767225600@visitcrestviewfl.com
SUMMARY:New Year's Eve Disco Bash
DESCRIPTION:The City of Crestview presents New Year’s Eve Disco Bash!\nLocation: Mainstreet by the Courthouse \nDecember 31st \n\nKids Party: 5-8 PM\nBand + Dance Party: 8PM-12AM\n\nJoin us in your favorite 70s\, 80s\, or 90s outfit as we welcome the New Year! \nLive music\, balloon drops\, food trucks \nVIP table is $100 and seats 8 people \nFireworks at Midnight!
URL:https://visitcrestviewfl.com/event/new-years-eve-disco-bash/
LOCATION:Main Street\, 3170 Main St\, Crestview\, FL\, 32539\, United States
ATTACH;FMTTYPE=image/jpeg:https://visitcrestviewfl.com/wp-content/uploads/2025/12/Disco-Bash.jpg
END:VEVENT
BEGIN:VEVENT
DTSTART;TZID=UTC:20260130T173000
DTEND;TZID=UTC:20260130T193000
DTSTAMP:20260424T001439
CREATED:20260116T203252Z
LAST-MODIFIED:20260116T203252Z
UID:10000738-1769794200-1769801400@visitcrestviewfl.com
SUMMARY:Crestview Library Bear Hunt
DESCRIPTION:We’re going on a bear hunt in the Crestview Public Library on Friday\, January 30 and again on Friday\, February 27!\nSign-in will start at 5:45 p.m. for the first hunt and at 6:30 p.m. for the second hunt each day. We will read some stories\, find bears with flashlights and treat our bears to a cookie. Someone in your party must be ages 3-14. Register (on this calendar) for the day and time that works best for you. Please register each child ages 3-14. In the special notes section\, please put names and ages of siblings (who are outside of the 3-14 age bracket but still want to participate) and how many adults will be in your party. Once you’ve secured your reservation\, don your modest pajamas. Bring your teddy bear\, flash light and 4 cookies to share (individually wrapped\, please). If you cannot come\, please cancel your registration to open your spots to someone on the Waitlist.
URL:https://visitcrestviewfl.com/event/crestview-library-bear-hunt/
LOCATION:The Crestview Public Library\, 1445 Commerce Dr.\, Crestview\, FL\, 32539\, United States
ATTACH;FMTTYPE=image/png:https://visitcrestviewfl.com/wp-content/uploads/2026/01/Bear-png.png
END:VEVENT
BEGIN:VEVENT
DTSTART;TZID=UTC:20260227T173000
DTEND;TZID=UTC:20260227T193000
DTSTAMP:20260424T001439
CREATED:20260116T203413Z
LAST-MODIFIED:20260116T203413Z
UID:10000739-1772213400-1772220600@visitcrestviewfl.com
SUMMARY:Crestview Library Bear Hunt
DESCRIPTION:We’re going on a bear hunt in the Crestview Public Library on Friday\, January 30 and again on Friday\, February 27!\nSign-in will start at 5:45 p.m. for the first hunt and at 6:30 p.m. for the second hunt each day. We will read some stories\, find bears with flashlights and treat our bears to a cookie. Someone in your party must be ages 3-14. Register (on this calendar) for the day and time that works best for you. Please register each child ages 3-14. In the special notes section\, please put names and ages of siblings (who are outside of the 3-14 age bracket but still want to participate) and how many adults will be in your party. Once you’ve secured your reservation\, don your modest pajamas. Bring your teddy bear\, flash light and 4 cookies to share (individually wrapped\, please). If you cannot come\, please cancel your registration to open your spots to someone on the Waitlist.
URL:https://visitcrestviewfl.com/event/crestview-library-bear-hunt-2/
LOCATION:The Crestview Public Library\, 1445 Commerce Dr.\, Crestview\, FL\, 32539\, United States
ATTACH;FMTTYPE=image/png:https://visitcrestviewfl.com/wp-content/uploads/2026/01/Bear-png.png
END:VEVENT
BEGIN:VEVENT
DTSTART;TZID=UTC:20260307T120000
DTEND;TZID=UTC:20260307T180000
DTSTAMP:20260424T001439
CREATED:20260116T204232Z
LAST-MODIFIED:20260129T163355Z
UID:10000740-1772884800-1772906400@visitcrestviewfl.com
SUMMARY:2026 Crestview Mardi Gras
DESCRIPTION:Saturday\, March 7\, 2026\n1:00 PM – Pawdi-Gras Parade (Pet Parade) on Main \n\nAll pets welcome in Mardi Gras-themed costumes\nPrizes for Most Festive Pup\nLocal pet vendors & shelters on-site\n\n\n12 PM – 6:00 PM – Downtown Festival \n\nArtisans\, Boutiques\, and Farmers Market Vendors\nFood Trucks & Sweet Treat Vendors\nDJ + Live Music Throughout the Day\nKids Activities & Craft Corner\nStreet performers\, stilt walkers & photo ops\n\n\n\n\n2:00 PM – The Main Event: The Crestview Mardi Gras Parade \n\n Floats\, dancers\, Krewes\, marching bands & more\nBead throws\, moon pies & family fun\nParade route starts at 67 Home Furniture to S. Main Street with barricaded spectator zones\n\n\n\n\n2:00 PM – 6:00 PM – Beads & Wheels Car Show\n\n\n3:00 PM – Festival Continues + a FREE Concert!\nImmediately following the parade\, head over to Wilson Street park where the festivities will continue with a FREE concert by The Shenanigans!
URL:https://visitcrestviewfl.com/event/2026-crestview-mardi-gras/
LOCATION:Main Street\, 3170 Main St\, Crestview\, FL\, 32539\, United States
ATTACH;FMTTYPE=image/jpeg:https://visitcrestviewfl.com/wp-content/uploads/2026/01/MardiGras2026.jpg
END:VEVENT
END:VCALENDAR