
BEGIN:VCALENDAR
VERSION:2.0
PRODID:-//VisitCrestviewFL.com - ECPv6.15.20//NONSGML v1.0//EN
CALSCALE:GREGORIAN
METHOD:PUBLISH
X-WR-CALNAME:VisitCrestviewFL.com
X-ORIGINAL-URL:https://visitcrestviewfl.com
X-WR-CALDESC:Events for VisitCrestviewFL.com
REFRESH-INTERVAL;VALUE=DURATION:PT1H
X-Robots-Tag:noindex
X-PUBLISHED-TTL:PT1H
BEGIN:VTIMEZONE
TZID:UTC
BEGIN:STANDARD
TZOFFSETFROM:+0000
TZOFFSETTO:+0000
TZNAME:UTC
DTSTART:20240101T000000
END:STANDARD
END:VTIMEZONE
BEGIN:VEVENT
DTSTART;TZID=UTC:20250412T100000
DTEND;TZID=UTC:20250412T160000
DTSTAMP:20260424T123350
CREATED:20250331T191638Z
LAST-MODIFIED:20250331T191638Z
UID:10000665-1744452000-1744473600@visitcrestviewfl.com
SUMMARY:2nd Annual Fandom Exchange & Backpack Buddies Food Drive
DESCRIPTION:Get ready\, fandom friends!!\n\nThe 2nd annual Fandom Exchange & Backpack Buddies of Baker food drive is coming back to Crestview on Saturday\, April 12th\, from 10 AM to 4 PM\, with an epic after party at Task Force Pizza starting at 6 PM\, featuring DJ Ace50 Media!\n\nCrestview’s ONLY mini-comic-con\, and it’s packed with activities!\n\nCosplay Contest with prizes\nArtist Alley showcasing talented artists & artisans\nFreddie’s Southern Eats & Mama’s Lemonade\nBoba Tea & Treat Bar by Moosi Bakes\nGame Corner hosted by Game Master’s Guild\nMusic from DJ Ace50 Media\nBring child-friendly to open food to support our food drive for Backpack Buddies of Baker\n\nDon’t miss your chance to show off your fandom pride and enjoy a day full of family fun. Plus\, support a good cause with our food drive initiative!! Last time we filled a huge table- let’s make it overflow!\n\nMark your calendar\, invite your friends\, and follow our page for updates! We’ll see you there!!\n\nThe Fandom Exchange is a FREE & family friendly event!
URL:https://visitcrestviewfl.com/event/2nd-annual-fandom-exchange-backpack-buddies-food-drive/
LOCATION:Exchange at Crestview\, 6260 Old Bethel Road\, Crestview\, FL\, 32536\, United States
ATTACH;FMTTYPE=image/jpeg:https://visitcrestviewfl.com/wp-content/uploads/2025/03/481078972_604847775699756_381968422630983625_n.jpg
END:VEVENT
BEGIN:VEVENT
DTSTART;TZID=UTC:20250404T180000
DTEND;TZID=UTC:20250404T200000
DTSTAMP:20260424T123350
CREATED:20250331T191428Z
LAST-MODIFIED:20250331T191428Z
UID:10000664-1743789600-1743796800@visitcrestviewfl.com
SUMMARY:Mainstreet Family Fest
DESCRIPTION:Please join Downtown Crestview on April 4th for the Mainstreet Family Fest!
URL:https://visitcrestviewfl.com/event/mainstreet-family-fest/
LOCATION:Downtown Crestview – Courthouse Terrace\, 160 Courthouse Ter\, Crestview\, FL\, 32536\, United States
ATTACH;FMTTYPE=image/jpeg:https://visitcrestviewfl.com/wp-content/uploads/2025/03/477534616_1103544448239869_159031934755912917_n.jpg
END:VEVENT
BEGIN:VEVENT
DTSTART;TZID=UTC:20250404T170000
DTEND;TZID=UTC:20250502T203000
DTSTAMP:20260424T123350
CREATED:20250331T190653Z
LAST-MODIFIED:20250903T224500Z
UID:10000652-1743786000-1746217800@visitcrestviewfl.com
SUMMARY:Downtown Crestview Food Truck Friday
DESCRIPTION:Mark your calendars for Food Truck Fridays on Main Street!\n\nEvery first Friday of the month\, Crestview brings the tastiest local food trucks downtown. Gather your friends and family for an evening filled with mouthwatering eats\, vibrant community vibes\, and loads of fun!\n\nWhether you’re craving savory bites or sweet treats\, there will be something for everyone! Eat\, mingle\, and make memories while supporting small businesses in the area.
URL:https://visitcrestviewfl.com/event/downtown-crestview-food-truck-friday/2025-04-04/
LOCATION:Downtown Crestview\, 311 N Main St\, Crestview\, FL\, 32536\, United States
ATTACH;FMTTYPE=image/jpeg:https://visitcrestviewfl.com/wp-content/uploads/2025/03/484921984_1070304548458190_2172917522114497694_n.jpg
END:VEVENT
END:VCALENDAR